BEGIN:VCALENDAR
VERSION:2.0
PRODID:-//Holy Trinity Catholic Church - ECPv6.6.4.2//NONSGML v1.0//EN
CALSCALE:GREGORIAN
METHOD:PUBLISH
X-WR-CALNAME:Holy Trinity Catholic Church
X-ORIGINAL-URL:https://holytrinityupdates.com
X-WR-CALDESC:Events for Holy Trinity Catholic Church
REFRESH-INTERVAL;VALUE=DURATION:PT1H
X-Robots-Tag:noindex
X-PUBLISHED-TTL:PT1H
BEGIN:VTIMEZONE
TZID:America/New_York
BEGIN:DAYLIGHT
TZOFFSETFROM:-0500
TZOFFSETTO:-0400
TZNAME:EDT
DTSTART:20230312T070000
END:DAYLIGHT
BEGIN:STANDARD
TZOFFSETFROM:-0400
TZOFFSETTO:-0500
TZNAME:EST
DTSTART:20231105T060000
END:STANDARD
END:VTIMEZONE
BEGIN:VEVENT
DTSTART;TZID=America/New_York:20231027T190000
DTEND;TZID=America/New_York:20231027T210000
DTSTAMP:20260423T054434
CREATED:20230925T211957Z
LAST-MODIFIED:20230925T212331Z
UID:23739-1698433200-1698440400@holytrinityupdates.com
SUMMARY:En Español: Teologia del Cuerpo
DESCRIPTION:Enseñanzas de la Iglesia Católica sobre el propósito de la sexualidad humana. \n\n\n\nPara mayores de 18 anos. \n\n\n\nImpartido por Carmeen ‘China’ Briceno. \n\n\n\n6 sesiones\, presencial or virtual\, en el salon 201 de la parroquia. \n\n\n\nInscribase AQUI \n\n\n\n$60 por persona o $100 por pareja
URL:https://holytrinityupdates.com/schedule/23739/
CATEGORIES:Adult Faith Formation,Ministries,Parish Event,Spanish
ATTACH;FMTTYPE=image/png:https://holytrinityupdates.com/wp-content/uploads/2023/09/teologia.png
END:VEVENT
BEGIN:VEVENT
DTSTART;TZID=America/New_York:20231027T100000
DTEND;TZID=America/New_York:20231027T140000
DTSTAMP:20260423T054434
CREATED:20231012T195809Z
LAST-MODIFIED:20231012T195810Z
UID:24083-1698400800-1698415200@holytrinityupdates.com
SUMMARY:Mass and Reception with Bishop Burbidge for Homeschool Families
DESCRIPTION:Join us Friday\, October 27 at 10 a.m. as Bishop Michael Burbidge celebrates Mass for homeschool families at Holy Trinity Catholic Church in Gainesville\, VA.  \n\n\n\nAfter Mass\, continue the celebration of family and fellowship by joining us for a light reception of beverages and desserts. \n\n\n\nAttendees are also welcome to bring a picnic lunch and enjoy the beautiful surroundings at the church. 
URL:https://holytrinityupdates.com/schedule/mass-and-reception-with-bishop-burbidge-for-homeschool-families/
CATEGORIES:Adult Faith Formation,Blessings,Diocesan Events,Homeschool,Mass,Parish Event
ATTACH;FMTTYPE=image/jpeg:https://holytrinityupdates.com/wp-content/uploads/2021/10/BspBurbidge_Homschool-Mass2.jpg
END:VEVENT
BEGIN:VEVENT
DTSTART;TZID=America/New_York:20231027T000000
DTEND;TZID=America/New_York:20231027T235959
DTSTAMP:20260423T054434
CREATED:20231012T200205Z
LAST-MODIFIED:20231012T200207Z
UID:24086-1698364800-1698451199@holytrinityupdates.com
SUMMARY:Morning Mass
DESCRIPTION:Our regular scheduled morning Mass will be celebrated at 8am to accommodate Bishop Burbidge Mass for homeschool families at 10am
URL:https://holytrinityupdates.com/schedule/morning-mass/
CATEGORIES:Diocesan Events,Homeschool,Mass,Parish Event
ATTACH;FMTTYPE=image/jpeg:https://holytrinityupdates.com/wp-content/uploads/2023/10/Morning-Mass.jpg
END:VEVENT
BEGIN:VEVENT
DTSTART;TZID=America/New_York:20231025T190000
DTEND;TZID=America/New_York:20231025T203000
DTSTAMP:20260423T054434
CREATED:20231012T182617Z
LAST-MODIFIED:20231012T182619Z
UID:24057-1698260400-1698265800@holytrinityupdates.com
SUMMARY:Adult Faith Formation: Facts to Combat Lies Against the Holy Faith
DESCRIPTION:Beginning October 25! \n\n\n\nWe will cover one topic a week: 1. Scripture: Anti-Bible\, Anti-Christian and the Antichrist?2. Worship: Idolatry\, Cannibalism and goddess Mary?3. Interfaith Dialogue: Intolerance\, Inquisition and Evil Crusaders?4. The Chosen People: Anti-Semitism\, Nazis and the Holocaust?5. Learning: Ignorant\, Illiterate and Unscientific?6. Human Rights: Slavery\, Misogyny and Oppression?
URL:https://holytrinityupdates.com/schedule/adult-faith-formation-facts-to-combat-lies-against-the-holy-faith/
CATEGORIES:Adult Faith Formation,Ministries,Parish Event
ATTACH;FMTTYPE=image/jpeg:https://holytrinityupdates.com/wp-content/uploads/2023/10/Lies-Against-the-Faith-Events.jpg
END:VEVENT
BEGIN:VEVENT
DTSTART;TZID=America/New_York:20231021T190000
DTEND;TZID=America/New_York:20231021T210000
DTSTAMP:20260423T054434
CREATED:20231011T195043Z
LAST-MODIFIED:20231011T195045Z
UID:24045-1697914800-1697922000@holytrinityupdates.com
SUMMARY:Date Night: Game Night
DESCRIPTION:On Saturday\, October 21st at 7pm in Our Lady’s Hall. \n\n\n\nCome and enjoy a night of board games with fellow parishioner couples! \n\n\n\nPlease bring a dessert to share!While this is a free event\, donations are always appreciated. \n\n\n\nPlease RSVP by 10/19: marriageministry@holytrinityparish.net
URL:https://holytrinityupdates.com/schedule/date-night-game-night/
CATEGORIES:Adult Faith Formation,Ministries,Parish Event
ATTACH;FMTTYPE=image/jpeg:https://holytrinityupdates.com/wp-content/uploads/2023/10/Game-Night-events-1.jpg
END:VEVENT
BEGIN:VEVENT
DTSTART;TZID=America/New_York:20231021T093000
DTEND;TZID=America/New_York:20231021T110000
DTSTAMP:20260423T054434
CREATED:20230828T213834Z
LAST-MODIFIED:20230828T213836Z
UID:23258-1697880600-1697886000@holytrinityupdates.com
SUMMARY:Consecration to your Guardian Angel with Fr. Bork
DESCRIPTION:The Holy Angels study course led by Fr. Bork is intended to prepare participants for consecration to their Guardian Angel as well as to all the Angels. \n\n\n\nClass will meet once a month on the 3rd Saturday of the month after the 9am Mass. \n\n\n\nGod has given each of us the gift of our own Guardian Angel primarily for our sanctification and to help us to better serve God. The purpose of consecration is to become closer to God by building a stronger relationship with our Angels. \n\n\n\nBooks can be purchased in class. \n\n\n\nPlease call Gregory Bain at (703) 606-2782 with any questions. You can also email me at jdepillo@yahoo.com  with any questions
URL:https://holytrinityupdates.com/schedule/consecration-to-your-guardian-angel-with-fr-bork-8/
CATEGORIES:Adult Faith Formation,Devotions,Parish Event
ATTACH;FMTTYPE=image/jpeg:https://holytrinityupdates.com/wp-content/uploads/2023/08/Consecration-to-your-Guardian-Angel.jpg
END:VEVENT
BEGIN:VEVENT
DTSTART;TZID=America/New_York:20231021T090000
DTEND;TZID=America/New_York:20231021T120000
DTSTAMP:20260423T054434
CREATED:20230803T160551Z
LAST-MODIFIED:20230803T160553Z
UID:22920-1697878800-1697889600@holytrinityupdates.com
SUMMARY:En Español!  Santos en Entrenamiento - Santos Solteros
DESCRIPTION:Comenzamos con la Misa de las 9 am y después nos reunimos en un salón de la iglesia para conocer la vida de los santos para inspirarnos a llegar a nuestra meta … el Cielo!
URL:https://holytrinityupdates.com/schedule/en-espanol-santos-en-entrenamiento-santos-solteros/
CATEGORIES:Adult Faith Formation,Parish Event,Spanish,Talk
ATTACH;FMTTYPE=image/jpeg:https://holytrinityupdates.com/wp-content/uploads/2023/08/Octubre-Santos-Solteros.jpg
END:VEVENT
BEGIN:VEVENT
DTSTART;TZID=America/New_York:20231021T080000
DTEND;TZID=America/New_York:20231021T150000
DTSTAMP:20260423T054434
CREATED:20230922T154847Z
LAST-MODIFIED:20230922T154849Z
UID:23694-1697875200-1697900400@holytrinityupdates.com
SUMMARY:Donación de Sangre en Holy Trinity!
DESCRIPTION:El Concilio 12982 de los Caballeros de Colon y la Legion Americana estan co-patrocinando una Donación de Sangre en la comunidad el 21 de octubre comenzando a las 9am.   \n\n\n\nPresione AQUÍ para registrarse y escoja la fecha del 21 de octubre.
URL:https://holytrinityupdates.com/schedule/donacion-de-sangre-en-holy-trinity/
CATEGORIES:Knights of Columbus,Ministries,Parish Event
ATTACH;FMTTYPE=image/png:https://holytrinityupdates.com/wp-content/uploads/2023/09/Blood-drive-Espanol.png
END:VEVENT
BEGIN:VEVENT
DTSTART;TZID=America/New_York:20231021T080000
DTEND;TZID=America/New_York:20231021T150000
DTSTAMP:20260423T054434
CREATED:20230922T153715Z
LAST-MODIFIED:20230922T153717Z
UID:23691-1697875200-1697900400@holytrinityupdates.com
SUMMARY:Blood Drive at Holy Trinity!
DESCRIPTION:The Knights of Columbus\, council 12982 and The American Legion Post are co-sponsoring a Community Blood Drive on October 21\, 2023 starting at 9am. \n\n\n\nPlease click HERE to register
URL:https://holytrinityupdates.com/schedule/blood-drive-at-holy-trinity/
CATEGORIES:Knights of Columbus,Ministries,Parish Event
ATTACH;FMTTYPE=image/png:https://holytrinityupdates.com/wp-content/uploads/2023/09/Blood-drive-English.png
END:VEVENT
BEGIN:VEVENT
DTSTART;TZID=America/New_York:20231021T070000
DTEND;TZID=America/New_York:20231022T213000
DTSTAMP:20260423T054434
CREATED:20210830T023411Z
LAST-MODIFIED:20230907T222830Z
UID:10464-1697871600-1698010200@holytrinityupdates.com
SUMMARY:Fall Retreat (Ultimate Outing)
DESCRIPTION:High school fall retreat. Open to all in grades 9-12. \n\n\n\nMore info/registration is here: https://forms.gle/8z8X71LfaPDbxQF58 \n\n\n\nEmail Paul for details: youthministry@holytrinityparish.net
URL:https://holytrinityupdates.com/schedule/ultimate-outing/
CATEGORIES:Diocesan Events,High School,HTYM,Ministries,Parish Event
ATTACH;FMTTYPE=image/png:https://holytrinityupdates.com/wp-content/uploads/2023/09/ultimateouting2023.png
END:VEVENT
BEGIN:VEVENT
DTSTART;TZID=America/New_York:20231021T000000
DTEND;TZID=America/New_York:20231022T235959
DTSTAMP:20260423T054434
CREATED:20230914T171916Z
LAST-MODIFIED:20230914T171918Z
UID:23589-1697846400-1698019199@holytrinityupdates.com
SUMMARY:St Lucy Project - Bag Distribution after ALL the Masses
DESCRIPTION:Holy Trinity can make a difference helping our American Heritage Girls Group and the Knights of Columbus who will be collecting food this coming weekend\, October 28/29 after all the Masses. Our goal is to collect 10\,000 pounds of food! \n\n\n\nOur American Heritage Girls will be distributing bags on the weekend of April 22-23 to be filled with your food donations to be collected the following weekend. \n\n\n\nThank you for your generosity!
URL:https://holytrinityupdates.com/schedule/st-lucy-project-bag-distribution-after-all-the-masses/
CATEGORIES:Adult Faith Formation,Diocesan Events,Knights of Columbus,Ministries,Parish Event
ATTACH;FMTTYPE=image/jpeg:https://holytrinityupdates.com/wp-content/uploads/2023/09/Lucy-Project-Events.jpg
END:VEVENT
BEGIN:VEVENT
DTSTART;TZID=America/New_York:20231020T183000
DTEND;TZID=America/New_York:20231020T200000
DTSTAMP:20260423T054434
CREATED:20210908T164709Z
LAST-MODIFIED:20230906T223122Z
UID:10650-1697826600-1697832000@holytrinityupdates.com
SUMMARY:Spark After Dark
DESCRIPTION:Middle school youth ministry. Always open to all in grades 6-8\, regardless of the week or time of the year. On many third Fridays of the month\, in the evenings throughout the school year. \n\n\n\nCome\, bring friends\, and any questions can go to Paul: youthministry@holytrinityparish.net \n\n\n\nFor all regular youth ministry options\, as well as youth ministry’s big events\, please visit our page: https://holytrinityupdates.com/formation/htym/
URL:https://holytrinityupdates.com/schedule/spark-after-dark/
CATEGORIES:HTYM,Middle School,Ministries
ATTACH;FMTTYPE=image/png:https://holytrinityupdates.com/wp-content/uploads/2021/09/SparkAD.png
END:VEVENT
BEGIN:VEVENT
DTSTART;TZID=America/New_York:20231020T180000
DTEND;TZID=America/New_York:20231020T190000
DTSTAMP:20260423T054434
CREATED:20230925T215517Z
LAST-MODIFIED:20230925T215519Z
UID:23757-1697824800-1697828400@holytrinityupdates.com
SUMMARY:Devotion to the Holy Face
DESCRIPTION:Meeting will be over by 7pm.  \n\n\n\nIt is based on the image of the Veil of Veronica\, and inspired by the lives of Sr. Marie Pierre\, Venerable Leo Dupont\, and St Therese of the Child Jesus of the Holy Face.  All are welcome.The group will meet on the 3rd Friday of the month. \n\n\n\nClick HERE for the link if you would like to livestream it!
URL:https://holytrinityupdates.com/schedule/devotion-to-the-holy-face/
CATEGORIES:Adult Faith Formation,Devotions,Ministries,Parish Event
ATTACH;FMTTYPE=image/jpeg:https://holytrinityupdates.com/wp-content/uploads/2023/09/Devotion-to-the-Holy-Face-Events.jpg
END:VEVENT
BEGIN:VEVENT
DTSTART;TZID=America/New_York:20231018T190000
DTEND;TZID=America/New_York:20231018T203000
DTSTAMP:20260423T054434
CREATED:20230927T201632Z
LAST-MODIFIED:20230927T201634Z
UID:23828-1697655600-1697661000@holytrinityupdates.com
SUMMARY:Fundamentals of Church Latin
DESCRIPTION:Learn to read\, pronounce and understand the Latin used in Catholic prayers\, and the Holy Sacrifice of the Mass! \n\n\n\nOnly 4 weeks\, don’t miss out!
URL:https://holytrinityupdates.com/schedule/fundamentals-of-church-latin-4/
CATEGORIES:Adult Faith Formation,Ministries,Parish Event,Talk
ATTACH;FMTTYPE=image/jpeg:https://holytrinityupdates.com/wp-content/uploads/2023/09/Latin-event.jpg
END:VEVENT
BEGIN:VEVENT
DTSTART;TZID=America/New_York:20231018T190000
DTEND;TZID=America/New_York:20231018T200000
DTSTAMP:20260423T054434
CREATED:20230629T173900Z
LAST-MODIFIED:20230629T173902Z
UID:22555-1697655600-1697659200@holytrinityupdates.com
SUMMARY:Women's Holy Hour
DESCRIPTION:Please come and let Our Lord gaze upon His beloved! All women are invited to Adoration before Our Lord in the main church at Holy Trinity\, every 3rd Wednesday of the month at 7pm. Come and be replenished with Confession\, Benediction\, Rosary and quiet meditation. Invite friends!
URL:https://holytrinityupdates.com/schedule/womens-holy-hour-22/
CATEGORIES:Adult Faith Formation,Confession,Devotions,Parish Event
ATTACH;FMTTYPE=image/jpeg:https://holytrinityupdates.com/wp-content/uploads/2023/06/June-Womens-Holy-Hour-1.jpg
END:VEVENT
BEGIN:VEVENT
DTSTART;TZID=America/New_York:20231016T190000
DTEND;TZID=America/New_York:20231016T210000
DTSTAMP:20260423T054434
CREATED:20220227T213019Z
LAST-MODIFIED:20230906T220843Z
UID:14418-1697482800-1697490000@holytrinityupdates.com
SUMMARY:Adventures of Holy Heroes
DESCRIPTION:Open to all high schoolers\, grades 9-12\, third Monday table-top role-playing ministry. Meet by the side basement doors at 6:55 pm\, by the pond\, and head in. If you’re new to the ministry\, and would like a quick character-building tutorial\, the leaders are available at 6:30 pm to help\, too! \n\n\n\nCome\, bring friends\, and any questions can go to Paul: youthministry@holytrinityparish.net \n\n\n\nFor all regular youth ministry options\, as well as youth ministry’s big events\, please visit our page: https://holytrinityupdates.com/formation/htym/
URL:https://holytrinityupdates.com/schedule/aohh/
CATEGORIES:High School,HTYM,Ministries
ATTACH;FMTTYPE=image/png:https://holytrinityupdates.com/wp-content/uploads/2021/05/AoHH.png
END:VEVENT
BEGIN:VEVENT
DTSTART;TZID=America/New_York:20231013T190000
DTEND;TZID=America/New_York:20231013T210000
DTSTAMP:20260423T054434
CREATED:20230922T155726Z
LAST-MODIFIED:20230925T212132Z
UID:23698-1697223600-1697230800@holytrinityupdates.com
SUMMARY:En ESPAÑOL:  Teología del Cuerpo
DESCRIPTION:Enseñanzas de la Iglesia Católica sobre el propósito de la sexualidad humana.   \n\n\n\nPara mayores de 18 anos.   \n\n\n\nImpartido por Carmeen ‘China’ Briceno. \n\n\n\n6 sesiones\, presencial or virtual\, en el salon 201 de la parroquia. \n\n\n\nInscribase AQUI
URL:https://holytrinityupdates.com/schedule/en-espanol-teologia-del-cuerpo/
CATEGORIES:Adult Faith Formation,Ministries,Parish Event,Spanish
ATTACH;FMTTYPE=image/png:https://holytrinityupdates.com/wp-content/uploads/2023/09/teologia.png
END:VEVENT
BEGIN:VEVENT
DTSTART;TZID=America/New_York:20231013T160000
DTEND;TZID=America/New_York:20231013T170000
DTSTAMP:20260423T054434
CREATED:20230911T215808Z
LAST-MODIFIED:20230911T215810Z
UID:23483-1697212800-1697216400@holytrinityupdates.com
SUMMARY:Annual Children's Vocal Holy Hour
DESCRIPTION:We need 16 children to help lead the prayers. If you have a child who is in the 6th grade or older and can speak well in front of a crowd\, please click HERE to sign up!
URL:https://holytrinityupdates.com/schedule/annual-childrens-vocal-holy-hour/
CATEGORIES:Devotions,Non-Mass Liturgy,Parish Event,Religious Education
ATTACH;FMTTYPE=image/jpeg:https://holytrinityupdates.com/wp-content/uploads/2023/09/Childrens-Holy-Hour-Event.jpg
END:VEVENT
BEGIN:VEVENT
DTSTART;TZID=America/New_York:20231011T190000
DTEND;TZID=America/New_York:20231011T203000
DTSTAMP:20260423T054434
CREATED:20230927T201027Z
LAST-MODIFIED:20230927T201029Z
UID:23825-1697050800-1697056200@holytrinityupdates.com
SUMMARY:Fundamentals of Church Latin
DESCRIPTION:Learn to read\, pronounce and understand the Latin used in Catholic prayers\, and the Holy Sacrifice of the Mass! \n\n\n\nOnly 4 weeks\, don’t miss out!
URL:https://holytrinityupdates.com/schedule/fundamentals-of-church-latin-3/
CATEGORIES:Adult Faith Formation,Ministries,Parish Event,Talk
ATTACH;FMTTYPE=image/jpeg:https://holytrinityupdates.com/wp-content/uploads/2023/09/Latin-event.jpg
END:VEVENT
BEGIN:VEVENT
DTSTART;TZID=America/New_York:20231010T190000
DTEND;TZID=America/New_York:20231010T210000
DTSTAMP:20260423T054434
CREATED:20210908T203646Z
LAST-MODIFIED:20230906T220743Z
UID:10709-1696964400-1696971600@holytrinityupdates.com
SUMMARY:Virtue & Valor (young adults!)
DESCRIPTION:Young adult (18-34)\, table-top\, role-playing ministry. Arrive and meet others in the Narthex at 6:50 pm\, and then head to the meeting room (Room 104) together. \n\n\n\nNext meeting is November 14\, same time and place. (meetings are once/month\, second Tuesdays) \n\n\n\nQuestions? Email Paul: youngadults@holytrinityparish.net
URL:https://holytrinityupdates.com/schedule/virtue-valor-young-adults/
CATEGORIES:HTYA,Ministries,Young Adults
ATTACH;FMTTYPE=image/png:https://holytrinityupdates.com/wp-content/uploads/2021/09/vv2023next-1.png
END:VEVENT
BEGIN:VEVENT
DTSTART;TZID=America/New_York:20231009T190000
DTEND;TZID=America/New_York:20231009T210000
DTSTAMP:20260423T054434
CREATED:20220227T213016Z
LAST-MODIFIED:20230906T220506Z
UID:14417-1696878000-1696885200@holytrinityupdates.com
SUMMARY:St. Gianna's Life Defenders
DESCRIPTION:Open to all high schoolers\, grades 9-12\, second Monday pro life advocacy ministry. Meet by the side basement doors at 6:55 pm\, by the pond\, and head in. \n\n\n\nQuestions? Email Paul: youthministry@holytrinityparish.net
URL:https://holytrinityupdates.com/schedule/sgld/
CATEGORIES:High School,HTYM,Ministries
ATTACH;FMTTYPE=image/png:https://holytrinityupdates.com/wp-content/uploads/2021/05/StGiannas-large.png
END:VEVENT
BEGIN:VEVENT
DTSTART;TZID=America/New_York:20231008T000000
DTEND;TZID=America/New_York:20231008T235959
DTSTAMP:20260423T054434
CREATED:20230912T211417Z
LAST-MODIFIED:20230912T211419Z
UID:23525-1696723200-1696809599@holytrinityupdates.com
SUMMARY:2nd Collection for Porto Charities to Support Diocesan Families with Developmentally and Intellectually Disabled Children
DESCRIPTION:Thank you so much for prayerfully considering a donation to support this worthy endeavor. If you pay via check please put Porto Charities in the memo line. \n\n\n\nTo contribute\, click on this link: https://www.paypal.com/donate/?hosted_button_id=5K564DN3NARU2 or use the QR Code below:
URL:https://holytrinityupdates.com/schedule/2nd-collection-for-porto-charities-to-support-diocesan-families-with-developmentally-and-intellectually-disabled-children-2/
CATEGORIES:Diocesan Events,Ministries,Parish Event
ATTACH;FMTTYPE=image/jpeg:https://holytrinityupdates.com/wp-content/uploads/2023/09/1-New-logo.jpg
END:VEVENT
BEGIN:VEVENT
DTSTART;TZID=America/New_York:20231007T000000
DTEND;TZID=America/New_York:20231007T235959
DTSTAMP:20260423T054434
CREATED:20230912T211248Z
LAST-MODIFIED:20230912T211251Z
UID:23522-1696636800-1696723199@holytrinityupdates.com
SUMMARY:2nd Collection for Porto Charities to Support Diocesan Families with Developmentally and Intellectually Disabled Children
DESCRIPTION:Thank you so much for prayerfully considering a donation to support this worthy endeavor. If you pay via check please put Porto Charities in the memo line. \n\n\n\nTo contribute\, click on this link: https://www.paypal.com/donate/?hosted_button_id=5K564DN3NARU2 or use the QR Code below:
URL:https://holytrinityupdates.com/schedule/2nd-collection-for-porto-charities-to-support-diocesan-families-with-developmentally-and-intellectually-disabled-children/
CATEGORIES:Ministries,Parish Event
ATTACH;FMTTYPE=image/jpeg:https://holytrinityupdates.com/wp-content/uploads/2023/09/1-New-logo.jpg
END:VEVENT
BEGIN:VEVENT
DTSTART;TZID=America/New_York:20231007T000000
DTEND;TZID=America/New_York:20231007T235959
DTSTAMP:20260423T054434
CREATED:20230906T224608Z
LAST-MODIFIED:20230927T211433Z
UID:23409-1696636800-1696723199@holytrinityupdates.com
SUMMARY:Our Lady of the Rosary Fall Festival
DESCRIPTION:Can you pray the rosary in another language besides English? Please consider joining us on Saturday\, Oct 7th at Holy Trinity for the Our Lady of the Rosary Fall Festival. We are in need of many families who can lead a vocal rosary in the Narthex throughout the festival. Details are in the attached Sign Up Genius. Sign Up Here to Lead a Rosary in your native language. \n\n\n\nClick HERE to donate cakes and plain cupcakes \n\n\n\nClick HERE for Works of Mercy opportunities
URL:https://holytrinityupdates.com/schedule/our-lady-of-the-rosary-fall-festival/
CATEGORIES:Adult Faith Formation,Knights of Columbus,Ministries,Parish Event
ATTACH;FMTTYPE=image/jpeg:https://holytrinityupdates.com/wp-content/uploads/2023/09/Fall-Festival-Oct-2023.jpg
END:VEVENT
BEGIN:VEVENT
DTSTART;TZID=America/New_York:20231006T180000
DTEND;TZID=America/New_York:20231006T190000
DTSTAMP:20260423T054434
CREATED:20230629T182345Z
LAST-MODIFIED:20230629T182348Z
UID:22570-1696615200-1696618800@holytrinityupdates.com
SUMMARY:Men's Holy Hour
DESCRIPTION:Join your fellow brothers for an hour with Our Lord!Stay after for an hour of fraternity!6pm Holy Hour with Exposition/Confession/Benediction exclusively for men of all ages and vocations in life! \n\n\n\nFollowed by 7pm First Friday MassA Social hour with food/drinks/fraternity after Mass in the Knights of Columbus room
URL:https://holytrinityupdates.com/schedule/mens-holy-hour-15/
CATEGORIES:Adult Faith Formation,Confession,Devotions,Parish Event
ATTACH;FMTTYPE=image/jpeg:https://holytrinityupdates.com/wp-content/uploads/2023/05/June-Mens-Holy-Hour_email.jpg
END:VEVENT
BEGIN:VEVENT
DTSTART;TZID=America/New_York:20231006T163000
DTEND;TZID=America/New_York:20231006T180000
DTSTAMP:20260423T054434
CREATED:20210908T163608Z
LAST-MODIFIED:20230906T223028Z
UID:10638-1696609800-1696615200@holytrinityupdates.com
SUMMARY:Spark
DESCRIPTION:Middle school youth ministry. Always open to all in grades 6-8\, regardless of the week or time of the year. On most first and third Fridays of the month\, in the early evenings throughout the school year. \n\n\n\nCome\, bring friends\, and any questions can go to Paul: youthministry@holytrinityparish.net \n\n\n\nFor all regular youth ministry options\, as well as youth ministry’s big events\, please visit our page: https://holytrinityupdates.com/formation/htym/
URL:https://holytrinityupdates.com/schedule/spark/
CATEGORIES:HTYM,Middle School,Ministries
ATTACH;FMTTYPE=image/png:https://holytrinityupdates.com/wp-content/uploads/2023/09/Spark-Fall2023.png
END:VEVENT
BEGIN:VEVENT
DTSTART;TZID=America/New_York:20231004T190000
DTEND;TZID=America/New_York:20231004T203000
DTSTAMP:20260423T054434
CREATED:20230927T200900Z
LAST-MODIFIED:20230927T200903Z
UID:23822-1696446000-1696451400@holytrinityupdates.com
SUMMARY:Fundamentals of Church Latin
DESCRIPTION:Learn to read\, pronounce and understand the Latin used in Catholic prayers\, and the Holy Sacrifice of the Mass! \n\n\n\nOnly 4 weeks\, don’t miss out!
URL:https://holytrinityupdates.com/schedule/fundamentals-of-church-latin-2/
CATEGORIES:Adult Faith Formation,Ministries,Parish Event
ATTACH;FMTTYPE=image/jpeg:https://holytrinityupdates.com/wp-content/uploads/2023/09/Latin-event.jpg
END:VEVENT
BEGIN:VEVENT
DTSTART;TZID=America/New_York:20231004T163000
DTEND;TZID=America/New_York:20231004T170000
DTSTAMP:20260423T054434
CREATED:20231004T160927Z
LAST-MODIFIED:20231004T160929Z
UID:23936-1696437000-1696438800@holytrinityupdates.com
SUMMARY:Blessing of the Animals
DESCRIPTION:Bring your pets to the front steps of the church on Wednesday\, October 4th at 4:30pm for the traditional blessing of the animals!
URL:https://holytrinityupdates.com/schedule/blessing-of-the-animals-2/
CATEGORIES:Blessings,Devotions,Parish Event
ATTACH;FMTTYPE=image/jpeg:https://holytrinityupdates.com/wp-content/uploads/2022/09/Blessing-of-Animals-St-Francis.jpg
END:VEVENT
BEGIN:VEVENT
DTSTART;TZID=America/New_York:20231002T190000
DTEND;TZID=America/New_York:20231002T203000
DTSTAMP:20260423T054434
CREATED:20220227T213013Z
LAST-MODIFIED:20230906T220438Z
UID:14416-1696273200-1696278600@holytrinityupdates.com
SUMMARY:Gamemasters
DESCRIPTION:Open to all high schoolers\, grades 9-12\, first Monday board-gaming ministry. Meet by the side basement doors at 6:55 pm\, by the pond\, and head in. \n\n\n\nCome\, bring friends\, and any questions can go to Paul: youthministry@holytrinityparish.net \n\n\n\nFor all regular youth ministry options\, as well as youth ministry’s big events\, please visit our page: https://holytrinityupdates.com/formation/htym/
URL:https://holytrinityupdates.com/schedule/gamemasters/
CATEGORIES:High School,HTYM
ATTACH;FMTTYPE=image/png:https://holytrinityupdates.com/wp-content/uploads/2021/05/Gamemasters.png
END:VEVENT
BEGIN:VEVENT
DTSTART;TZID=America/New_York:20231001T140000
DTEND;TZID=America/New_York:20231001T150000
DTSTAMP:20260423T054434
CREATED:20230927T173623Z
LAST-MODIFIED:20230927T173625Z
UID:23801-1696168800-1696172400@holytrinityupdates.com
SUMMARY:2023 Annual Life Chain
DESCRIPTION:Every year we stand along Linton Hall Rd. silently praying for about 90 minutes. \n\n\n\n We will gather in the parking lot of the Truist Bank\, on Linton Hall Rd. closest to the intersection with Wellington Rd. to receive signs. \n\n\n\nPlease join  us!
URL:https://holytrinityupdates.com/schedule/2023-annual-life-chain/
CATEGORIES:Adult Faith Formation,Devotions,Ministries,Parish Event
ATTACH;FMTTYPE=image/jpeg:https://holytrinityupdates.com/wp-content/uploads/2023/09/2023-Life-Chain.jpg
END:VEVENT
END:VCALENDAR