BEGIN:VCALENDAR
VERSION:2.0
PRODID:-//Holy Trinity Catholic Church - ECPv6.6.4.2//NONSGML v1.0//EN
CALSCALE:GREGORIAN
METHOD:PUBLISH
X-WR-CALNAME:Holy Trinity Catholic Church
X-ORIGINAL-URL:https://holytrinityupdates.com
X-WR-CALDESC:Events for Holy Trinity Catholic Church
REFRESH-INTERVAL;VALUE=DURATION:PT1H
X-Robots-Tag:noindex
X-PUBLISHED-TTL:PT1H
BEGIN:VTIMEZONE
TZID:America/New_York
BEGIN:DAYLIGHT
TZOFFSETFROM:-0500
TZOFFSETTO:-0400
TZNAME:EDT
DTSTART:20230312T070000
END:DAYLIGHT
BEGIN:STANDARD
TZOFFSETFROM:-0400
TZOFFSETTO:-0500
TZNAME:EST
DTSTART:20231105T060000
END:STANDARD
END:VTIMEZONE
BEGIN:VEVENT
DTSTART;TZID=America/New_York:20230824T190000
DTEND;TZID=America/New_York:20230824T200000
DTSTAMP:20260423T055750
CREATED:20230623T005442Z
LAST-MODIFIED:20230623T005444Z
UID:22496-1692903600-1692907200@holytrinityupdates.com
SUMMARY:Holy Trinity's Summer Spiritual Life Series: Lectio Divina
DESCRIPTION:All Thursdays in July and August\, starting on Thursday\, July 6\, at 7pm in room 201. \n\n\n\nJoin us for the ancient tradition of Lectio Divina: the reading of Sacred Scripture accompanied by prayer which brings about intimate dialogue with God. \n\n\n\nInvite a friend! Everyone is welcome!
URL:https://holytrinityupdates.com/schedule/holy-trinitys-summer-spiritual-life-series-lectio-divina-8/
CATEGORIES:Adult Faith Formation,Devotions,Parish Event
ATTACH;FMTTYPE=image/png:https://holytrinityupdates.com/wp-content/uploads/2023/06/Lectio-Divina_2023.png
END:VEVENT
BEGIN:VEVENT
DTSTART;TZID=America/New_York:20230824T190000
DTEND;TZID=America/New_York:20230824T210000
DTSTAMP:20260423T055750
CREATED:20230816T151302Z
LAST-MODIFIED:20230816T151304Z
UID:23126-1692903600-1692910800@holytrinityupdates.com
SUMMARY:Respect Life Regional Sessions 2023 – Prince William
DESCRIPTION:The 2023 election cycle is critical for Virginia. Let’s use this occasion to bring Christ to the culture and to elect lawmakers who will respect our Christian values. Sign up to attend one of the sessions in Gainesville below to learn more about Virginia’s new voting districts\, how to engage Catholic voters\, and how the legislative process works here in the Commonwealth. \n\n\n\nWhen: August 24\, 2023 \n\n\n\nWhere: Holy Trinity Catholic Church \n\n\n\nSign up for 9:30am session (after 9am Mass) \n\n\n\nSign up for 7pm session
URL:https://holytrinityupdates.com/schedule/respect-life-regional-sessions-2023-prince-william-2/
CATEGORIES:Adult Faith Formation,Diocesan Events,Parish Event
ATTACH;FMTTYPE=image/png:https://holytrinityupdates.com/wp-content/uploads/2023/08/RLM_reg.-sessions-2023-Large-big-thumb.png
END:VEVENT
BEGIN:VEVENT
DTSTART;TZID=America/New_York:20230827T183000
DTEND;TZID=America/New_York:20230827T190000
DTSTAMP:20260423T055750
CREATED:20230623T001638Z
LAST-MODIFIED:20230623T001640Z
UID:22465-1693161000-1693162800@holytrinityupdates.com
SUMMARY:Holy Trinity's Summer Spiritual Life Series: Sunday Vespers
DESCRIPTION:Join us this July and August for a great opportunity to deepen your relationship with Jesus . \n\n\n\nEvery Sunday we will pray the Liturgy of the Hours in the main church. \n\n\n\nInvite a friend or the whole family\, everyone is welcome!
URL:https://holytrinityupdates.com/schedule/holy-trinitys-summer-spiritual-life-series-sunday-vespers-7/
CATEGORIES:Adult Faith Formation,Devotions,Non-Mass Liturgy,Parish Event
ATTACH;FMTTYPE=image/png:https://holytrinityupdates.com/wp-content/uploads/2023/06/Screenshot-2023-06-19-104246.png
END:VEVENT
BEGIN:VEVENT
DTSTART;TZID=America/New_York:20230830T190000
DTEND;TZID=America/New_York:20230830T203000
DTSTAMP:20260423T055750
CREATED:20230821T163602Z
LAST-MODIFIED:20230821T163604Z
UID:23161-1693422000-1693427400@holytrinityupdates.com
SUMMARY:Adult Faith Formation: Major Heresies
DESCRIPTION:Room 105 \n\n\n\nUnderstanding the True Faith by examining those who got it wrong
URL:https://holytrinityupdates.com/schedule/adult-faith-formation-major-heresies-2/
CATEGORIES:Adult Faith Formation,Parish Event
ATTACH;FMTTYPE=image/jpeg:https://holytrinityupdates.com/wp-content/uploads/2023/08/MajorHeresies.jpg
END:VEVENT
BEGIN:VEVENT
DTSTART;TZID=America/New_York:20230831T190000
DTEND;TZID=America/New_York:20230831T200000
DTSTAMP:20260423T055750
CREATED:20230623T005701Z
LAST-MODIFIED:20230623T005703Z
UID:22500-1693508400-1693512000@holytrinityupdates.com
SUMMARY:Holy Trinity's Summer Spiritual Life Series: Lectio Divina
DESCRIPTION:All Thursdays in July and August\, starting on Thursday\, July 6\, at 7pm in room 201. \n\n\n\nJoin us for the ancient tradition of Lectio Divina: the reading of Sacred Scripture accompanied by prayer which brings about intimate dialogue with God. \n\n\n\nInvite a friend! Everyone is welcome!
URL:https://holytrinityupdates.com/schedule/holy-trinitys-summer-spiritual-life-series-lectio-divina-9/
CATEGORIES:Adult Faith Formation,Devotions,Parish Event
ATTACH;FMTTYPE=image/png:https://holytrinityupdates.com/wp-content/uploads/2023/06/Lectio-Divina_2023.png
END:VEVENT
BEGIN:VEVENT
DTSTART;TZID=America/New_York:20230901T180000
DTEND;TZID=America/New_York:20230901T190000
DTSTAMP:20260423T055750
CREATED:20230629T182255Z
LAST-MODIFIED:20230629T182257Z
UID:22568-1693591200-1693594800@holytrinityupdates.com
SUMMARY:Men's Holy Hour
DESCRIPTION:Join your fellow brothers for an hour with Our Lord!Stay after for an hour of fraternity!6pm Holy Hour with Exposition/Confession/Benediction exclusively for men of all ages and vocations in life! \n\n\n\nFollowed by 7pm First Friday MassA Social hour with food/drinks/fraternity after Mass in the Knights of Columbus room
URL:https://holytrinityupdates.com/schedule/mens-holy-hour-14/
CATEGORIES:Adult Faith Formation,Confession,Devotions,Parish Event
ATTACH;FMTTYPE=image/jpeg:https://holytrinityupdates.com/wp-content/uploads/2023/05/June-Mens-Holy-Hour_email.jpg
END:VEVENT
BEGIN:VEVENT
DTSTART;TZID=America/New_York:20230902T090000
DTEND;TZID=America/New_York:20230902T120000
DTSTAMP:20260423T055750
CREATED:20230803T160314Z
LAST-MODIFIED:20230803T160317Z
UID:22915-1693645200-1693656000@holytrinityupdates.com
SUMMARY:En Español!  Santos en Entrenamiento - Santos Jóvenes
DESCRIPTION:Comenzamos con la Misa de las 9 am y después nos reunimos en un salón de la iglesia para conocer la vida de los santos para inspirarnos a llegar a nuestra meta … el Cielo!
URL:https://holytrinityupdates.com/schedule/en-espanol-santos-en-entrenamiento-santos-jovenes/
CATEGORIES:Adult Faith Formation,Parish Event,Spanish
ATTACH;FMTTYPE=image/jpeg:https://holytrinityupdates.com/wp-content/uploads/2023/08/Septiembre-Santos-jovenes.jpg
END:VEVENT
BEGIN:VEVENT
DTSTART;TZID=America/New_York:20230906T190000
DTEND;TZID=America/New_York:20230906T203000
DTSTAMP:20260423T055750
CREATED:20230821T163721Z
LAST-MODIFIED:20230821T163724Z
UID:23164-1694026800-1694032200@holytrinityupdates.com
SUMMARY:Adult Faith Formation: Major Heresies
DESCRIPTION:Room 105 \n\n\n\nUnderstanding the True Faith by examining those who got it wrong
URL:https://holytrinityupdates.com/schedule/adult-faith-formation-major-heresies-3/
CATEGORIES:Adult Faith Formation,Parish Event
ATTACH;FMTTYPE=image/jpeg:https://holytrinityupdates.com/wp-content/uploads/2023/08/MajorHeresies.jpg
END:VEVENT
BEGIN:VEVENT
DTSTART;TZID=America/New_York:20230912T190000
DTEND;TZID=America/New_York:20230912T210000
DTSTAMP:20260423T055750
CREATED:20210923T223334Z
LAST-MODIFIED:20230906T220732Z
UID:10952-1694545200-1694552400@holytrinityupdates.com
SUMMARY:Virtue & Valor (young adults!)
DESCRIPTION:Young adult (18-34)\, table-top\, role-playing ministry. Arrive and meet others in the Narthex at 6:50 pm\, and then head to the meeting room (Room 104) together. \n\n\n\nNext meeting is October 10\, same time and place. (meetings are once/month\, second Tuesdays) \n\n\n\nQuestions & RSVP\, email Mike\, Celia\, John & Paul: youngadults@holytrinityparish.net
URL:https://holytrinityupdates.com/schedule/virtue-valor-2/
CATEGORIES:HTYA,Ministries,Young Adults
ATTACH;FMTTYPE=image/png:https://holytrinityupdates.com/wp-content/uploads/2021/09/vv2023next-1.png
END:VEVENT
BEGIN:VEVENT
DTSTART;TZID=America/New_York:20230913T190000
DTEND;TZID=America/New_York:20230913T203000
DTSTAMP:20260423T055750
CREATED:20230821T164038Z
LAST-MODIFIED:20230821T164041Z
UID:23167-1694631600-1694637000@holytrinityupdates.com
SUMMARY:Adult Faith Formation: Saintly Sinners?
DESCRIPTION:Room 105 \n\n\n\nStories of Repentance and Conversion
URL:https://holytrinityupdates.com/schedule/adult-faith-formation-saintly-sinners/
CATEGORIES:Adult Faith Formation,Parish Event
ATTACH;FMTTYPE=image/jpeg:https://holytrinityupdates.com/wp-content/uploads/2023/08/saintlysinners.jpg
END:VEVENT
BEGIN:VEVENT
DTSTART;TZID=America/New_York:20230915T090000
DTEND;TZID=America/New_York:20230915T100000
DTSTAMP:20260423T055750
CREATED:20230907T204641Z
LAST-MODIFIED:20230907T204643Z
UID:23439-1694768400-1694772000@holytrinityupdates.com
SUMMARY:Our Lady of Sorrows Mass
DESCRIPTION:Our regular 9am Mass will be for those who have lost a child
URL:https://holytrinityupdates.com/schedule/our-lady-of-sorrows-mass/
CATEGORIES:Devotions,Mass,Parish Event
ATTACH;FMTTYPE=image/jpeg:https://holytrinityupdates.com/wp-content/uploads/2023/09/Our-Lady-of-Sorrows-2023-Events.jpg
END:VEVENT
BEGIN:VEVENT
DTSTART;TZID=America/New_York:20230915T163000
DTEND;TZID=America/New_York:20230915T183000
DTSTAMP:20260423T055750
CREATED:20210901T222150Z
LAST-MODIFIED:20230907T222712Z
UID:10487-1694795400-1694802600@holytrinityupdates.com
SUMMARY:Middle School End-of-Summer Party
DESCRIPTION:Come for food\, friends\, music\, games\, and more! \n\n\n\nOpen to all currently in grades 6\, 7\, and 8.   \n\n\n\nEmail Paul for details:  youthministry@holytrinityparish.net
URL:https://holytrinityupdates.com/schedule/ms-eos-party/
CATEGORIES:HTYM,Middle School
ATTACH;FMTTYPE=image/png:https://holytrinityupdates.com/wp-content/uploads/2023/09/eos-middleschool2023.png
END:VEVENT
BEGIN:VEVENT
DTSTART;TZID=America/New_York:20230915T180000
DTEND;TZID=America/New_York:20230915T190000
DTSTAMP:20260423T055750
CREATED:20230907T210331Z
LAST-MODIFIED:20230915T133919Z
UID:23443-1694800800-1694804400@holytrinityupdates.com
SUMMARY:Devotion to the Holy Face Prayer Group
DESCRIPTION:Meeting will be over by 7pm.  \n\n\n\nIt is based on the image of the Veil of Veronica\, and inspired by the lives of Sr. Marie Pierre\, Venerable Leo Dupont\, and St Therese of the Child Jesus of the Holy Face.  All are welcome.The group will meet on the 3rd Friday of the month. \n\n\n\nClick HERE for the link if you would like to livestream it!
URL:https://holytrinityupdates.com/schedule/devotion-to-the-holy-face-prayer-group-3/
CATEGORIES:Adult Faith Formation,Devotions,Ministries,Parish Event
ATTACH;FMTTYPE=image/jpeg:https://holytrinityupdates.com/wp-content/uploads/2023/09/Devotion-to-the-Holy-Face-Events.jpg
END:VEVENT
BEGIN:VEVENT
DTSTART;TZID=America/New_York:20230916T190000
DTEND;TZID=America/New_York:20230916T210000
DTSTAMP:20260423T055750
CREATED:20230906T233312Z
LAST-MODIFIED:20230906T233314Z
UID:23414-1694890800-1694898000@holytrinityupdates.com
SUMMARY:Date Night: Let Our Blessed Mother Guide your Marriage
DESCRIPTION:RSVP at marriageministry@holytrinityparish.net \n\n\n\nA catered dinner with dessert and wine will be served.  Please pay $40 per couple via cash or check at the door.
URL:https://holytrinityupdates.com/schedule/date-night-let-our-blessed-mother-guide-your-marriage/
CATEGORIES:Adult Faith Formation,Ministries,Parish Event
ATTACH;FMTTYPE=image/jpeg:https://holytrinityupdates.com/wp-content/uploads/2023/09/October-Date-Night-2023-_Event.jpg
END:VEVENT
BEGIN:VEVENT
DTSTART;TZID=America/New_York:20230917T180000
DTEND;TZID=America/New_York:20230917T203000
DTSTAMP:20260423T055750
CREATED:20210830T024009Z
LAST-MODIFIED:20230907T222605Z
UID:10471-1694973600-1694982600@holytrinityupdates.com
SUMMARY:High School End-of-Summer Party
DESCRIPTION:Come for food\, friends\, music\, games\, and more! \n\n\n\nOpen to all currently in grades 9\, 10\, 11\, and 12.   \n\n\n\nEmail Paul for details: youthministry@holytrinityparish.net
URL:https://holytrinityupdates.com/schedule/eos-party/
CATEGORIES:High School,HTYM
ATTACH;FMTTYPE=image/png:https://holytrinityupdates.com/wp-content/uploads/2023/09/eos-highschool2023.png
END:VEVENT
BEGIN:VEVENT
DTSTART;TZID=America/New_York:20230918T200000
DTEND;TZID=America/New_York:20230918T210000
DTSTAMP:20260423T055750
CREATED:20230731T205300Z
LAST-MODIFIED:20230731T205302Z
UID:22882-1695067200-1695070800@holytrinityupdates.com
SUMMARY:KoC Guest Speaker Series: St. Margaret of Cortona Transitional and Maternity Housing
DESCRIPTION:Monday\, September 18 at 8pm in the Knights of Columbus Room.  Light refreshments will be served.  \n\n\n\nSt. Margaret serves single mothers with wrap-around support to help them re-establish stability and independence. Participating families are provided with housing and personalized assistance while residing in the program. \n\n\n\nChanging lives\, one family at a time. \n\n\n\nClick HERE to learn more about this ministry
URL:https://holytrinityupdates.com/schedule/koc-guest-speaker-series-st-margaret-of-cortona-transitional-and-maternity-housing/
CATEGORIES:Adult Faith Formation,Knights of Columbus,Ministries,Talk
ATTACH;FMTTYPE=image/jpeg:https://holytrinityupdates.com/wp-content/uploads/2023/07/KoC-September.jpg
END:VEVENT
BEGIN:VEVENT
DTSTART;TZID=America/New_York:20230920T190000
DTEND;TZID=America/New_York:20230920T200000
DTSTAMP:20260423T055750
CREATED:20230629T173741Z
LAST-MODIFIED:20230629T173806Z
UID:22553-1695236400-1695240000@holytrinityupdates.com
SUMMARY:Women's Holy Hour
DESCRIPTION:Please come and let Our Lord gaze upon His beloved! All women are invited to Adoration before Our Lord in the main church at Holy Trinity\, every 3rd Wednesday of the month at 7pm. Come and be replenished with Confession\, Benediction\, Rosary and quiet meditation. Invite friends!
URL:https://holytrinityupdates.com/schedule/womens-holy-hour-21/
CATEGORIES:Adult Faith Formation,Confession,Devotions,Parish Event
ATTACH;FMTTYPE=image/jpeg:https://holytrinityupdates.com/wp-content/uploads/2023/06/June-Womens-Holy-Hour-1.jpg
END:VEVENT
BEGIN:VEVENT
DTSTART;TZID=America/New_York:20230920T190000
DTEND;TZID=America/New_York:20230920T203000
DTSTAMP:20260423T055750
CREATED:20230821T164307Z
LAST-MODIFIED:20230821T164343Z
UID:23170-1695236400-1695241800@holytrinityupdates.com
SUMMARY:Adult Faith Formation: Almost Saintly
DESCRIPTION:Room 105 \n\n\n\nMeeting some of the Blessed of the Church
URL:https://holytrinityupdates.com/schedule/adult-faith-formation-almost-saintly/
CATEGORIES:Adult Faith Formation,Parish Event
ATTACH;FMTTYPE=image/jpeg:https://holytrinityupdates.com/wp-content/uploads/2023/08/almostsaints.jpg
END:VEVENT
BEGIN:VEVENT
DTSTART;TZID=America/New_York:20230923T093000
DTEND;TZID=America/New_York:20230923T110000
DTSTAMP:20260423T055750
CREATED:20230828T213516Z
LAST-MODIFIED:20230914T175332Z
UID:23252-1695461400-1695466800@holytrinityupdates.com
SUMMARY:Consecration to your Guardian Angel with Fr. Bork
DESCRIPTION:The Holy Angels study course led by Fr. Bork is intended to prepare participants for consecration to their Guardian Angel as well as to all the Angels. \n\n\n\nClass will meet once a month on the 3rd Saturday of the month after the 9am Mass.   \n\n\n\nGod has given each of us the gift of our own Guardian Angel primarily for our sanctification and to help us to better serve God. The purpose of consecration is to become closer to God by building a stronger relationship with our Angels. \n\n\n\nBooks can be purchased in class.   \n\n\n\nPlease call Gregory Bain at (703) 606-2782 with any questions. You can also email me at jdepillo@yahoo.com  with any questions
URL:https://holytrinityupdates.com/schedule/consecration-to-your-guardian-angel-with-fr-bork-7/
CATEGORIES:Adult Faith Formation,Devotions,Parish Event
ATTACH;FMTTYPE=image/jpeg:https://holytrinityupdates.com/wp-content/uploads/2023/08/Consecration-to-your-Guardian-Angel.jpg
END:VEVENT
BEGIN:VEVENT
DTSTART;TZID=America/New_York:20230923T130000
DTEND;TZID=America/New_York:20230923T160000
DTSTAMP:20260423T055750
CREATED:20230912T161558Z
LAST-MODIFIED:20230912T161559Z
UID:23495-1695474000-1695484800@holytrinityupdates.com
SUMMARY:Altar Boy Training
DESCRIPTION:Meet in the room 201.  No need to RSVP \n\n\n\nThe boys must have received their First Holy Communion.
URL:https://holytrinityupdates.com/schedule/altar-boy-training-5/
CATEGORIES:Altar Boys,Devotions,Parish Event
ATTACH;FMTTYPE=image/jpeg:https://holytrinityupdates.com/wp-content/uploads/2023/09/Altar-Boy-Event.jpg
END:VEVENT
BEGIN:VEVENT
DTSTART;TZID=America/New_York:20230924T180000
DTEND;TZID=America/New_York:20230924T200000
DTSTAMP:20260423T055750
CREATED:20210908T163738Z
LAST-MODIFIED:20230906T223017Z
UID:10645-1695578400-1695585600@holytrinityupdates.com
SUMMARY:Ignite
DESCRIPTION:A high school youth ministry. Always open to all in grades 9-12\, regardless of the week or time of the year. On most Sunday evenings throughout the school year. \n\n\n\nCome\, bring friends\, and any questions can go to Paul: youthministry@holytrinityparish.net \n\n\n\nFor all regular youth ministry options\, as well as youth ministry’s big events\, please visit our page: https://holytrinityupdates.com/formation/htym/
URL:https://holytrinityupdates.com/schedule/ignite/
CATEGORIES:High School,HTYM,Ministries
ATTACH;FMTTYPE=image/png:https://holytrinityupdates.com/wp-content/uploads/2023/09/Ignite-Fall2023.png
END:VEVENT
BEGIN:VEVENT
DTSTART;TZID=America/New_York:20230925T190000
DTEND;TZID=America/New_York:20230925T203000
DTSTAMP:20260423T055750
CREATED:20220227T213009Z
LAST-MODIFIED:20230906T220358Z
UID:14414-1695668400-1695673800@holytrinityupdates.com
SUMMARY:St. Thomas's Youth Apologists
DESCRIPTION:Open to all high schoolers\, grades 9-12\, fourth Monday apologetics ministry. Meet by the side basement doors at 6:55 pm\, by the pond\, and head in. \n\n\n\nCome\, bring friends\, and any questions can go to Paul: youthministry@holytrinityparish.net \n\n\n\nFor all regular youth ministry options\, as well as youth ministry’s big events\, please visit our page: https://holytrinityupdates.com/formation/htym/
URL:https://holytrinityupdates.com/schedule/stya/
CATEGORIES:High School,HTYM,Ministries
ATTACH;FMTTYPE=image/png:https://holytrinityupdates.com/wp-content/uploads/2021/05/StThomas.png
END:VEVENT
BEGIN:VEVENT
DTSTART;TZID=America/New_York:20230926T190000
DTEND;TZID=America/New_York:20230926T203000
DTSTAMP:20260423T055750
CREATED:20220227T213644Z
LAST-MODIFIED:20230921T203506Z
UID:14430-1695754800-1695760200@holytrinityupdates.com
SUMMARY:Girls' Small Groups (GSG)
DESCRIPTION:Tuesday-evening\, high school Girls’ Small Groups ministry. Meet in the Narthex at 6:55 pm\, and head down to the youth room. All high school girls are welcomed every week\, grades 9 through 12. \n\n\n\nQuestions? Email Paul: youthministry@holytrinityparish.net \n\n\n\nFor all regular youth ministry options\, as well as youth ministry’s big events\, please visit our page: https://holytrinityupdates.com/formation/htym/
URL:https://holytrinityupdates.com/schedule/girls-small-groups/
CATEGORIES:High School,HTYM,Ministries
ATTACH;FMTTYPE=image/png:https://holytrinityupdates.com/wp-content/uploads/2022/02/GSG-Fall.png
END:VEVENT
BEGIN:VEVENT
DTSTART;TZID=America/New_York:20230927T190000
DTEND;TZID=America/New_York:20230927T203000
DTSTAMP:20260423T055750
CREATED:20230927T200705Z
LAST-MODIFIED:20230927T200707Z
UID:23817-1695841200-1695846600@holytrinityupdates.com
SUMMARY:Fundamentals of Church Latin
DESCRIPTION:Learn to read\, pronounce and understand the Latin used in Catholic prayers\, and the Holy Sacrifice of the Mass!  \n\n\n\nOnly 4 weeks\, don’t miss out!
URL:https://holytrinityupdates.com/schedule/fundamentals-of-church-latin/
CATEGORIES:Adult Faith Formation,Ministries,Parish Event
ATTACH;FMTTYPE=image/jpeg:https://holytrinityupdates.com/wp-content/uploads/2023/09/Latin-event.jpg
END:VEVENT
BEGIN:VEVENT
DTSTART;TZID=America/New_York:20230930T130000
DTEND;TZID=America/New_York:20230930T160000
DTSTAMP:20260423T055750
CREATED:20230912T161828Z
LAST-MODIFIED:20230912T161830Z
UID:23499-1696078800-1696089600@holytrinityupdates.com
SUMMARY:Altar Boy Training
DESCRIPTION:Meet in the narthex.  No need to RSVP \n\n\n\nThe boys must have received their First Holy Communion.
URL:https://holytrinityupdates.com/schedule/altar-boy-training-6/
CATEGORIES:Altar Boys,Ministries,Parish Event
ATTACH;FMTTYPE=image/jpeg:https://holytrinityupdates.com/wp-content/uploads/2023/09/Altar-Boy-Event.jpg
END:VEVENT
BEGIN:VEVENT
DTSTART;TZID=America/New_York:20231001T140000
DTEND;TZID=America/New_York:20231001T150000
DTSTAMP:20260423T055750
CREATED:20230927T173623Z
LAST-MODIFIED:20230927T173625Z
UID:23801-1696168800-1696172400@holytrinityupdates.com
SUMMARY:2023 Annual Life Chain
DESCRIPTION:Every year we stand along Linton Hall Rd. silently praying for about 90 minutes. \n\n\n\n We will gather in the parking lot of the Truist Bank\, on Linton Hall Rd. closest to the intersection with Wellington Rd. to receive signs. \n\n\n\nPlease join  us!
URL:https://holytrinityupdates.com/schedule/2023-annual-life-chain/
CATEGORIES:Adult Faith Formation,Devotions,Ministries,Parish Event
ATTACH;FMTTYPE=image/jpeg:https://holytrinityupdates.com/wp-content/uploads/2023/09/2023-Life-Chain.jpg
END:VEVENT
BEGIN:VEVENT
DTSTART;TZID=America/New_York:20231002T190000
DTEND;TZID=America/New_York:20231002T203000
DTSTAMP:20260423T055750
CREATED:20220227T213013Z
LAST-MODIFIED:20230906T220438Z
UID:14416-1696273200-1696278600@holytrinityupdates.com
SUMMARY:Gamemasters
DESCRIPTION:Open to all high schoolers\, grades 9-12\, first Monday board-gaming ministry. Meet by the side basement doors at 6:55 pm\, by the pond\, and head in. \n\n\n\nCome\, bring friends\, and any questions can go to Paul: youthministry@holytrinityparish.net \n\n\n\nFor all regular youth ministry options\, as well as youth ministry’s big events\, please visit our page: https://holytrinityupdates.com/formation/htym/
URL:https://holytrinityupdates.com/schedule/gamemasters/
CATEGORIES:High School,HTYM
ATTACH;FMTTYPE=image/png:https://holytrinityupdates.com/wp-content/uploads/2021/05/Gamemasters.png
END:VEVENT
BEGIN:VEVENT
DTSTART;TZID=America/New_York:20231004T163000
DTEND;TZID=America/New_York:20231004T170000
DTSTAMP:20260423T055750
CREATED:20231004T160927Z
LAST-MODIFIED:20231004T160929Z
UID:23936-1696437000-1696438800@holytrinityupdates.com
SUMMARY:Blessing of the Animals
DESCRIPTION:Bring your pets to the front steps of the church on Wednesday\, October 4th at 4:30pm for the traditional blessing of the animals!
URL:https://holytrinityupdates.com/schedule/blessing-of-the-animals-2/
CATEGORIES:Blessings,Devotions,Parish Event
ATTACH;FMTTYPE=image/jpeg:https://holytrinityupdates.com/wp-content/uploads/2022/09/Blessing-of-Animals-St-Francis.jpg
END:VEVENT
BEGIN:VEVENT
DTSTART;TZID=America/New_York:20231004T190000
DTEND;TZID=America/New_York:20231004T203000
DTSTAMP:20260423T055750
CREATED:20230927T200900Z
LAST-MODIFIED:20230927T200903Z
UID:23822-1696446000-1696451400@holytrinityupdates.com
SUMMARY:Fundamentals of Church Latin
DESCRIPTION:Learn to read\, pronounce and understand the Latin used in Catholic prayers\, and the Holy Sacrifice of the Mass! \n\n\n\nOnly 4 weeks\, don’t miss out!
URL:https://holytrinityupdates.com/schedule/fundamentals-of-church-latin-2/
CATEGORIES:Adult Faith Formation,Ministries,Parish Event
ATTACH;FMTTYPE=image/jpeg:https://holytrinityupdates.com/wp-content/uploads/2023/09/Latin-event.jpg
END:VEVENT
BEGIN:VEVENT
DTSTART;TZID=America/New_York:20231006T163000
DTEND;TZID=America/New_York:20231006T180000
DTSTAMP:20260423T055750
CREATED:20210908T163608Z
LAST-MODIFIED:20230906T223028Z
UID:10638-1696609800-1696615200@holytrinityupdates.com
SUMMARY:Spark
DESCRIPTION:Middle school youth ministry. Always open to all in grades 6-8\, regardless of the week or time of the year. On most first and third Fridays of the month\, in the early evenings throughout the school year. \n\n\n\nCome\, bring friends\, and any questions can go to Paul: youthministry@holytrinityparish.net \n\n\n\nFor all regular youth ministry options\, as well as youth ministry’s big events\, please visit our page: https://holytrinityupdates.com/formation/htym/
URL:https://holytrinityupdates.com/schedule/spark/
CATEGORIES:HTYM,Middle School,Ministries
ATTACH;FMTTYPE=image/png:https://holytrinityupdates.com/wp-content/uploads/2023/09/Spark-Fall2023.png
END:VEVENT
END:VCALENDAR