BEGIN:VCALENDAR
VERSION:2.0
PRODID:-//Holy Trinity Catholic Church - ECPv6.6.4.2//NONSGML v1.0//EN
CALSCALE:GREGORIAN
METHOD:PUBLISH
X-WR-CALNAME:Holy Trinity Catholic Church
X-ORIGINAL-URL:https://holytrinityupdates.com
X-WR-CALDESC:Events for Holy Trinity Catholic Church
REFRESH-INTERVAL;VALUE=DURATION:PT1H
X-Robots-Tag:noindex
X-PUBLISHED-TTL:PT1H
BEGIN:VTIMEZONE
TZID:America/New_York
BEGIN:DAYLIGHT
TZOFFSETFROM:-0500
TZOFFSETTO:-0400
TZNAME:EDT
DTSTART:20240310T070000
END:DAYLIGHT
BEGIN:STANDARD
TZOFFSETFROM:-0400
TZOFFSETTO:-0500
TZNAME:EST
DTSTART:20241103T060000
END:STANDARD
BEGIN:DAYLIGHT
TZOFFSETFROM:-0500
TZOFFSETTO:-0400
TZNAME:EDT
DTSTART:20250309T070000
END:DAYLIGHT
BEGIN:STANDARD
TZOFFSETFROM:-0400
TZOFFSETTO:-0500
TZNAME:EST
DTSTART:20251102T060000
END:STANDARD
END:VTIMEZONE
BEGIN:VEVENT
DTSTART;TZID=America/New_York:20240504T141500
DTEND;TZID=America/New_York:20240504T211500
DTSTAMP:20260420T044156
CREATED:20220321T145425Z
LAST-MODIFIED:20230921T221145Z
UID:14832-1714832100-1714857300@holytrinityupdates.com
SUMMARY:BASH (middle school)
DESCRIPTION:Middle school BASH\, along with hundreds of other middle schoolers from across the diocese! \n\n\n\n\nPromo video: https://youtu.be/0qfZTbdfHHc\n\n\n\nMore info & sign-up: Coming in the spring\, close to Easter!\n\n\n\n\nQuestions and RSVP to Paul: youthministry@holytrinityparish.net
URL:https://holytrinityupdates.com/schedule/bash/
CATEGORIES:Diocesan Events,HTYM,Middle School,Ministries
ATTACH;FMTTYPE=image/png:https://holytrinityupdates.com/wp-content/uploads/2022/03/Bash2024-promo1.png
END:VEVENT
BEGIN:VEVENT
DTSTART;TZID=America/New_York:20240517T180000
DTEND;TZID=America/New_York:20240517T190000
DTSTAMP:20260420T044156
CREATED:20230925T221013Z
LAST-MODIFIED:20230925T221015Z
UID:23780-1715968800-1715972400@holytrinityupdates.com
SUMMARY:Devotion to the Holy Facer Prayer Group
DESCRIPTION:Meeting will be over by 7pm.  \n\n\n\nIt is based on the image of the Veil of Veronica\, and inspired by the lives of Sr. Marie Pierre\, Venerable Leo Dupont\, and St Therese of the Child Jesus of the Holy Face.  All are welcome.The group will meet on the 3rd Friday of the month. \n\n\n\nClick HERE for the link if you would like to livestream it!
URL:https://holytrinityupdates.com/schedule/devotion-to-the-holy-facer-prayer-group/
CATEGORIES:Adult Faith Formation,Devotions,Ministries,Parish Event
ATTACH;FMTTYPE=image/jpeg:https://holytrinityupdates.com/wp-content/uploads/2023/09/Devotion-to-the-Holy-Face-Events.jpg
END:VEVENT
BEGIN:VEVENT
DTSTART;TZID=America/New_York:20240622T110000
DTEND;TZID=America/New_York:20240628T173000
DTSTAMP:20260420T044156
CREATED:20210602T123636Z
LAST-MODIFIED:20230906T223431Z
UID:7811-1719054000-1719595800@holytrinityupdates.com
SUMMARY:WorkCamp
DESCRIPTION:The Fall (October through December) is the time to get more info\, learn about the commitment and awesome week of service\, apply\, and register! Email Paul for more info: youthministry@holytrinityparish.net \n\n\n\nWeek of service-retreat for all high schoolers\, June 22-28\, 2024. \n\n\n\n> Follow HTYM on FB here: https://www.facebook.com/htymva> Follow HTYM on IG here: https://www.instagram.com/htymva/
URL:https://holytrinityupdates.com/schedule/workcampht/
CATEGORIES:Diocesan Events,High School,HTYM,Ministries
ATTACH;FMTTYPE=image/png:https://holytrinityupdates.com/wp-content/uploads/2021/05/WorkCamp-sm.png
END:VEVENT
BEGIN:VEVENT
DTSTART;TZID=America/New_York:20240710T153000
DTEND;TZID=America/New_York:20240710T170000
DTSTAMP:20260420T044156
CREATED:20210726T210215Z
LAST-MODIFIED:20230906T215242Z
UID:9989-1720625400-1720630800@holytrinityupdates.com
SUMMARY:Middle school Thunder
DESCRIPTION:Summertime\, July\, middle school ministry: come for fun\, faith\, and time with friends and community. All middle schoolers welcomed\, from those that will be in grade 6 this coming September up through the recently graduated 8th graders. \n\n\n\nMeet us at the pond-side basement doors (parents/guardians sign-in/sign-out). You can stay for just this meeting\, or through the end of “Salt and Light”\, complete with dinner\, that runs until 7:00 pm\, same place. \n\n\n\nWe hope to see you there!
URL:https://holytrinityupdates.com/schedule/middle-school-thunder/
CATEGORIES:HTYM,Middle School
ATTACH;FMTTYPE=image/png:https://holytrinityupdates.com/wp-content/uploads/2021/07/thunder.png
END:VEVENT
BEGIN:VEVENT
DTSTART;TZID=America/New_York:20240717T153000
DTEND;TZID=America/New_York:20240717T170000
DTSTAMP:20260420T044156
CREATED:20210726T210215Z
LAST-MODIFIED:20210726T210215Z
UID:23363-1721230200-1721235600@holytrinityupdates.com
SUMMARY:Middle school Thunder
DESCRIPTION:Summertime\, July\, middle school ministry: come for fun\, faith\, and time with friends and community. All middle schoolers welcomed\, from those that will be in grade 6 this coming September up through the recently graduated 8th graders. \n\n\n\nMeet us at the pond-side basement doors (parents/guardians sign-in/sign-out). You can stay for just this meeting\, or through the end of “Salt and Light”\, complete with dinner\, that runs until 7:00 pm\, same place. \n\n\n\nWe hope to see you there!
URL:https://holytrinityupdates.com/schedule/middle-school-thunder-2024-07-17/
CATEGORIES:HTYM,Middle School
ATTACH;FMTTYPE=image/png:https://holytrinityupdates.com/wp-content/uploads/2021/07/thunder.png
END:VEVENT
BEGIN:VEVENT
DTSTART;TZID=America/New_York:20240724T153000
DTEND;TZID=America/New_York:20240724T170000
DTSTAMP:20260420T044156
CREATED:20210726T210215Z
LAST-MODIFIED:20210726T210215Z
UID:23364-1721835000-1721840400@holytrinityupdates.com
SUMMARY:Middle school Thunder
DESCRIPTION:Summertime\, July\, middle school ministry: come for fun\, faith\, and time with friends and community. All middle schoolers welcomed\, from those that will be in grade 6 this coming September up through the recently graduated 8th graders. \n\n\n\nMeet us at the pond-side basement doors (parents/guardians sign-in/sign-out). You can stay for just this meeting\, or through the end of “Salt and Light”\, complete with dinner\, that runs until 7:00 pm\, same place. \n\n\n\nWe hope to see you there!
URL:https://holytrinityupdates.com/schedule/middle-school-thunder-2024-07-24/
CATEGORIES:HTYM,Middle School
ATTACH;FMTTYPE=image/png:https://holytrinityupdates.com/wp-content/uploads/2021/07/thunder.png
END:VEVENT
BEGIN:VEVENT
DTSTART;TZID=America/New_York:20240731T153000
DTEND;TZID=America/New_York:20240731T170000
DTSTAMP:20260420T044156
CREATED:20210726T210215Z
LAST-MODIFIED:20210726T210215Z
UID:23365-1722439800-1722445200@holytrinityupdates.com
SUMMARY:Middle school Thunder
DESCRIPTION:Summertime\, July\, middle school ministry: come for fun\, faith\, and time with friends and community. All middle schoolers welcomed\, from those that will be in grade 6 this coming September up through the recently graduated 8th graders. \n\n\n\nMeet us at the pond-side basement doors (parents/guardians sign-in/sign-out). You can stay for just this meeting\, or through the end of “Salt and Light”\, complete with dinner\, that runs until 7:00 pm\, same place. \n\n\n\nWe hope to see you there!
URL:https://holytrinityupdates.com/schedule/middle-school-thunder-2024-07-31/
CATEGORIES:HTYM,Middle School
ATTACH;FMTTYPE=image/png:https://holytrinityupdates.com/wp-content/uploads/2021/07/thunder.png
END:VEVENT
BEGIN:VEVENT
DTSTART;TZID=America/New_York:20240905T190000
DTEND;TZID=America/New_York:20240905T203000
DTSTAMP:20260420T044156
CREATED:20220227T213646Z
LAST-MODIFIED:20240909T183528Z
UID:14431-1725562800-1725568200@holytrinityupdates.com
SUMMARY:Guys' Small Groups (GSG)
DESCRIPTION:Thursday-evening\, high school Guys’ Small Groups ministry. Meet by the side basement doors at 6:55 pm\, by the pond\, and head in. All high school guys are welcomed every week\, grades 9 through 12. \n\n\n\nCome\, bring friends\, and any questions can go to Paul: youthministry@holytrinityparish.net \n\n\n\nFor all regular youth ministry options\, as well as youth ministry’s big events\, please visit our page: https://holytrinityupdates.com/formation/htym/
URL:https://holytrinityupdates.com/schedule/guys-small-groups/
CATEGORIES:High School,HTYM,Ministries
ATTACH;FMTTYPE=image/png:https://holytrinityupdates.com/wp-content/uploads/2022/02/GSG-Fall.png
END:VEVENT
BEGIN:VEVENT
DTSTART;TZID=America/New_York:20240912T190000
DTEND;TZID=America/New_York:20240912T203000
DTSTAMP:20260420T044156
CREATED:20220227T213646Z
LAST-MODIFIED:20240909T213459Z
UID:26554-1726167600-1726173000@holytrinityupdates.com
SUMMARY:Guys' Small Groups (GSG)
DESCRIPTION:Thursday-evening\, high school Guys’ Small Groups ministry. Meet by the side basement doors at 6:55 pm\, by the pond\, and head in. All high school guys are welcomed every week\, grades 9 through 12. \n\n\n\nCome\, bring friends\, and any questions can go to Paul: youthministry@holytrinityparish.net \n\n\n\nFor all regular youth ministry options\, as well as youth ministry’s big events\, please visit our page: https://holytrinityupdates.com/formation/htym/
URL:https://holytrinityupdates.com/schedule/guys-small-groups-2024-09-12/
CATEGORIES:High School,HTYM,Ministries
ATTACH;FMTTYPE=image/png:https://holytrinityupdates.com/wp-content/uploads/2022/02/GSG-Fall.png
END:VEVENT
BEGIN:VEVENT
DTSTART;TZID=America/New_York:20240919T190000
DTEND;TZID=America/New_York:20240919T203000
DTSTAMP:20260420T044156
CREATED:20220227T213646Z
LAST-MODIFIED:20240909T213459Z
UID:26555-1726772400-1726777800@holytrinityupdates.com
SUMMARY:Guys' Small Groups (GSG)
DESCRIPTION:Thursday-evening\, high school Guys’ Small Groups ministry. Meet by the side basement doors at 6:55 pm\, by the pond\, and head in. All high school guys are welcomed every week\, grades 9 through 12. \n\n\n\nCome\, bring friends\, and any questions can go to Paul: youthministry@holytrinityparish.net \n\n\n\nFor all regular youth ministry options\, as well as youth ministry’s big events\, please visit our page: https://holytrinityupdates.com/formation/htym/
URL:https://holytrinityupdates.com/schedule/guys-small-groups-2024-09-19/
CATEGORIES:High School,HTYM,Ministries
ATTACH;FMTTYPE=image/png:https://holytrinityupdates.com/wp-content/uploads/2022/02/GSG-Fall.png
END:VEVENT
BEGIN:VEVENT
DTSTART;TZID=America/New_York:20240926T190000
DTEND;TZID=America/New_York:20240926T203000
DTSTAMP:20260420T044156
CREATED:20220227T213646Z
LAST-MODIFIED:20240909T213500Z
UID:26556-1727377200-1727382600@holytrinityupdates.com
SUMMARY:Guys' Small Groups (GSG)
DESCRIPTION:Thursday-evening\, high school Guys’ Small Groups ministry. Meet by the side basement doors at 6:55 pm\, by the pond\, and head in. All high school guys are welcomed every week\, grades 9 through 12. \n\n\n\nCome\, bring friends\, and any questions can go to Paul: youthministry@holytrinityparish.net \n\n\n\nFor all regular youth ministry options\, as well as youth ministry’s big events\, please visit our page: https://holytrinityupdates.com/formation/htym/
URL:https://holytrinityupdates.com/schedule/guys-small-groups-2024-09-26/
CATEGORIES:High School,HTYM,Ministries
ATTACH;FMTTYPE=image/png:https://holytrinityupdates.com/wp-content/uploads/2022/02/GSG-Fall.png
END:VEVENT
BEGIN:VEVENT
DTSTART;TZID=America/New_York:20241003T190000
DTEND;TZID=America/New_York:20241003T203000
DTSTAMP:20260420T044156
CREATED:20220227T213646Z
LAST-MODIFIED:20240909T213500Z
UID:26557-1727982000-1727987400@holytrinityupdates.com
SUMMARY:Guys' Small Groups (GSG)
DESCRIPTION:Thursday-evening\, high school Guys’ Small Groups ministry. Meet by the side basement doors at 6:55 pm\, by the pond\, and head in. All high school guys are welcomed every week\, grades 9 through 12. \n\n\n\nCome\, bring friends\, and any questions can go to Paul: youthministry@holytrinityparish.net \n\n\n\nFor all regular youth ministry options\, as well as youth ministry’s big events\, please visit our page: https://holytrinityupdates.com/formation/htym/
URL:https://holytrinityupdates.com/schedule/guys-small-groups-2024-10-03/
CATEGORIES:High School,HTYM,Ministries
ATTACH;FMTTYPE=image/png:https://holytrinityupdates.com/wp-content/uploads/2022/02/GSG-Fall.png
END:VEVENT
BEGIN:VEVENT
DTSTART;TZID=America/New_York:20241010T190000
DTEND;TZID=America/New_York:20241010T203000
DTSTAMP:20260420T044156
CREATED:20220227T213646Z
LAST-MODIFIED:20240909T213501Z
UID:26558-1728586800-1728592200@holytrinityupdates.com
SUMMARY:Guys' Small Groups (GSG)
DESCRIPTION:Thursday-evening\, high school Guys’ Small Groups ministry. Meet by the side basement doors at 6:55 pm\, by the pond\, and head in. All high school guys are welcomed every week\, grades 9 through 12. \n\n\n\nCome\, bring friends\, and any questions can go to Paul: youthministry@holytrinityparish.net \n\n\n\nFor all regular youth ministry options\, as well as youth ministry’s big events\, please visit our page: https://holytrinityupdates.com/formation/htym/
URL:https://holytrinityupdates.com/schedule/guys-small-groups-2024-10-10/
CATEGORIES:High School,HTYM,Ministries
ATTACH;FMTTYPE=image/png:https://holytrinityupdates.com/wp-content/uploads/2022/02/GSG-Fall.png
END:VEVENT
BEGIN:VEVENT
DTSTART;TZID=America/New_York:20241017T190000
DTEND;TZID=America/New_York:20241017T203000
DTSTAMP:20260420T044156
CREATED:20220227T213646Z
LAST-MODIFIED:20240909T213501Z
UID:26559-1729191600-1729197000@holytrinityupdates.com
SUMMARY:Guys' Small Groups (GSG)
DESCRIPTION:Thursday-evening\, high school Guys’ Small Groups ministry. Meet by the side basement doors at 6:55 pm\, by the pond\, and head in. All high school guys are welcomed every week\, grades 9 through 12. \n\n\n\nCome\, bring friends\, and any questions can go to Paul: youthministry@holytrinityparish.net \n\n\n\nFor all regular youth ministry options\, as well as youth ministry’s big events\, please visit our page: https://holytrinityupdates.com/formation/htym/
URL:https://holytrinityupdates.com/schedule/guys-small-groups-2024-10-17/
CATEGORIES:High School,HTYM,Ministries
ATTACH;FMTTYPE=image/png:https://holytrinityupdates.com/wp-content/uploads/2022/02/GSG-Fall.png
END:VEVENT
BEGIN:VEVENT
DTSTART;TZID=America/New_York:20241024T190000
DTEND;TZID=America/New_York:20241024T203000
DTSTAMP:20260420T044156
CREATED:20220227T213646Z
LAST-MODIFIED:20240909T213504Z
UID:26560-1729796400-1729801800@holytrinityupdates.com
SUMMARY:Guys' Small Groups (GSG)
DESCRIPTION:Thursday-evening\, high school Guys’ Small Groups ministry. Meet by the side basement doors at 6:55 pm\, by the pond\, and head in. All high school guys are welcomed every week\, grades 9 through 12. \n\n\n\nCome\, bring friends\, and any questions can go to Paul: youthministry@holytrinityparish.net \n\n\n\nFor all regular youth ministry options\, as well as youth ministry’s big events\, please visit our page: https://holytrinityupdates.com/formation/htym/
URL:https://holytrinityupdates.com/schedule/guys-small-groups-2024-10-24/
CATEGORIES:High School,HTYM,Ministries
ATTACH;FMTTYPE=image/png:https://holytrinityupdates.com/wp-content/uploads/2022/02/GSG-Fall.png
END:VEVENT
BEGIN:VEVENT
DTSTART;TZID=America/New_York:20250709T173000
DTEND;TZID=America/New_York:20250709T190000
DTSTAMP:20260420T044156
CREATED:20210726T210536Z
LAST-MODIFIED:20240909T182246Z
UID:10001-1752082200-1752087600@holytrinityupdates.com
SUMMARY:Middle school Salt & Light
DESCRIPTION:Summertime\, July\, middle school ministry: come for fun\, faith\, time with friends and community… AND DINNER! All middle schoolers welcomed\, from those that will be in grade 6 this coming September up through the recently graduated 8th graders. \n\n\n\nMeet us at the pond-side basement doors (parents/guardians sign-in/sign-out). You can come for just this meeting\, or start earlier at “Thunder”\, which starts at 3:30 pm\, same place. \n\n\n\nWe hope to see you there!
URL:https://holytrinityupdates.com/schedule/salt-n-light/
CATEGORIES:HTYM,Middle School
ATTACH;FMTTYPE=image/png:https://holytrinityupdates.com/wp-content/uploads/2021/07/SaltNLight.png
END:VEVENT
BEGIN:VEVENT
DTSTART;TZID=America/New_York:20250716T173000
DTEND;TZID=America/New_York:20250716T190000
DTSTAMP:20260420T044156
CREATED:20210726T210536Z
LAST-MODIFIED:20240909T182248Z
UID:26546-1752687000-1752692400@holytrinityupdates.com
SUMMARY:Middle school Salt & Light
DESCRIPTION:Summertime\, July\, middle school ministry: come for fun\, faith\, time with friends and community… AND DINNER! All middle schoolers welcomed\, from those that will be in grade 6 this coming September up through the recently graduated 8th graders. \n\n\n\nMeet us at the pond-side basement doors (parents/guardians sign-in/sign-out). You can come for just this meeting\, or start earlier at “Thunder”\, which starts at 3:30 pm\, same place. \n\n\n\nWe hope to see you there!
URL:https://holytrinityupdates.com/schedule/salt-n-light-2025-07-16/
CATEGORIES:HTYM,Middle School
ATTACH;FMTTYPE=image/png:https://holytrinityupdates.com/wp-content/uploads/2021/07/SaltNLight.png
END:VEVENT
BEGIN:VEVENT
DTSTART;TZID=America/New_York:20250723T173000
DTEND;TZID=America/New_York:20250723T190000
DTSTAMP:20260420T044156
CREATED:20210726T210536Z
LAST-MODIFIED:20240909T182248Z
UID:26547-1753291800-1753297200@holytrinityupdates.com
SUMMARY:Middle school Salt & Light
DESCRIPTION:Summertime\, July\, middle school ministry: come for fun\, faith\, time with friends and community… AND DINNER! All middle schoolers welcomed\, from those that will be in grade 6 this coming September up through the recently graduated 8th graders. \n\n\n\nMeet us at the pond-side basement doors (parents/guardians sign-in/sign-out). You can come for just this meeting\, or start earlier at “Thunder”\, which starts at 3:30 pm\, same place. \n\n\n\nWe hope to see you there!
URL:https://holytrinityupdates.com/schedule/salt-n-light-2025-07-23/
CATEGORIES:HTYM,Middle School
ATTACH;FMTTYPE=image/png:https://holytrinityupdates.com/wp-content/uploads/2021/07/SaltNLight.png
END:VEVENT
BEGIN:VEVENT
DTSTART;TZID=America/New_York:20250730T173000
DTEND;TZID=America/New_York:20250730T190000
DTSTAMP:20260420T044156
CREATED:20210726T210536Z
LAST-MODIFIED:20240909T182248Z
UID:26548-1753896600-1753902000@holytrinityupdates.com
SUMMARY:Middle school Salt & Light
DESCRIPTION:Summertime\, July\, middle school ministry: come for fun\, faith\, time with friends and community… AND DINNER! All middle schoolers welcomed\, from those that will be in grade 6 this coming September up through the recently graduated 8th graders. \n\n\n\nMeet us at the pond-side basement doors (parents/guardians sign-in/sign-out). You can come for just this meeting\, or start earlier at “Thunder”\, which starts at 3:30 pm\, same place. \n\n\n\nWe hope to see you there!
URL:https://holytrinityupdates.com/schedule/salt-n-light-2025-07-30/
CATEGORIES:HTYM,Middle School
ATTACH;FMTTYPE=image/png:https://holytrinityupdates.com/wp-content/uploads/2021/07/SaltNLight.png
END:VEVENT
END:VCALENDAR